BEGIN:VCALENDAR
VERSION:2.0
PRODID:-//En mouvement - ECPv6.15.20//NONSGML v1.0//EN
CALSCALE:GREGORIAN
METHOD:PUBLISH
X-WR-CALNAME:En mouvement
X-ORIGINAL-URL:https://enmouvement.org
X-WR-CALDESC:Évènements pour En mouvement
REFRESH-INTERVAL;VALUE=DURATION:PT1H
X-Robots-Tag:noindex
X-PUBLISHED-TTL:PT1H
BEGIN:VTIMEZONE
TZID:UTC
BEGIN:STANDARD
TZOFFSETFROM:+0000
TZOFFSETTO:+0000
TZNAME:UTC
DTSTART:20250101T000000
END:STANDARD
END:VTIMEZONE
BEGIN:VEVENT
DTSTART;VALUE=DATE:20260901
DTEND;VALUE=DATE:20270401
DTSTAMP:20260424T192748
CREATED:20251009T155921Z
LAST-MODIFIED:20260401T132540Z
UID:5338-1788220800-1806537599@enmouvement.org
SUMMARY:Autisme : QST
DESCRIPTION:ATTENTION CLOTURE DES INSCRIPTIONS AU 15 JUILLET 2026\n  \nProgramme de formation\n1. Fondations – Les bases du toucher thérapeutique (01/09/26 > 07/11/26 – online) \n2. Immersion -Maîtrise du protocole QST (07/11/26 >11/11/26 – Paris) \n3. Integration -Suivi sur la mise en pratique professionnelle (01/12/26 > 31/03/27 in situ & online)
URL:https://enmouvement.org/formation/autisme-qst/
LOCATION:Online et Paris
CATEGORIES:Modules complémentaires
ORGANIZER;CN="Claire Lecut":MAILTO:clecut@icloud.com
END:VEVENT
BEGIN:VEVENT
DTSTART;TZID=UTC:20260925T160000
DTEND;TZID=UTC:20260925T200000
DTSTAMP:20260424T192748
CREATED:20240719T150947Z
LAST-MODIFIED:20250926T111638Z
UID:4224-1790352000-1790366400@enmouvement.org
SUMMARY:Atelier vérification musculaire
DESCRIPTION:Objectifs du stage : \nSession de découverte et de pratique de la vérification musculaire. \nProgramme : \n\nEtude et pratique de la vérification musculaire\nEquilibrages des réflexes avec la vérification musculaire
URL:https://enmouvement.org/formation/atelier-test-musculaire/
LOCATION:Cergy\, Cergy-Pontoise\, 95000
CATEGORIES:Ateliers à thème
ORGANIZER;CN="Emmanuelle Cadou":MAILTO:emmanuelle.cadou@gmail.com
END:VEVENT
BEGIN:VEVENT
DTSTART;TZID=UTC:20260926T093000
DTEND;TZID=UTC:20260927T180000
DTSTAMP:20260424T192748
CREATED:20250904T101436Z
LAST-MODIFIED:20250904T101436Z
UID:4439-1790415000-1790532000@enmouvement.org
SUMMARY:Tests rapides des réflexes fondamentaux Septembre 2026
DESCRIPTION:Pré-requis :\nAucun. Cependant\, il est conseillé d’avoir quelques notions sur la thématique des réflexes primitifs.\nObjectifs : \n\nÉtudier les principaux réflexes et leurs fonctions\nLes identifier sur le plan comportemental\nÉtudier les tests permettant de les mettre en évidence sur le plan postural et dynamique\n\nLes réflexes étudiés : \n\nRéflexes et développement cérébral\nStructure et dynamique du réflexe :\n\nImpact sur le développement moteur et comportemental\nConséquences possibles en cas de non intégration\n\n\nRéflexes étudiés :\n\nAgrippement palmaire\nAgrippement plantaire\nAmphibien\nBabinski\nBabkin\nExtension croisée\nGalant\nLandau\nMoro\nParachute\nPerez\nRedressement de la tête\nRéflexe Tonique Labyrinthique\, RTL\nRéflexe Tonique Asymétrique du Cou\, RTAC\nRéflexe Tonique Symétrique du Cou\, RTSC\nTraction des mains\n\n\nDémonstration des techniques possibles d’intégration d’un réflexe\n\nBilletterie: pour réserver votre place\, merci de verser les arrhes. Vous verserez le solde une semaine avant le début de la formation. Vous pouvez aussi choisir de régler votre billet dans sa totalité dès maintenant. Selon votre date d’inscription\, vous bénéficiez d’un tarif préférentiel. \nEn cas d’annulation plus de 30 jours avant le cours\, les arrhes pourront être reportées sur une autre formation\, sinon les arrhes seront encaissées. Si une formation devait être annulée par l’association En Mouvement\, les arrhes vous seront restituées.
URL:https://enmouvement.org/formation/tests-rapides-des-reflexes-fondamentaux-septembre-2026/
LOCATION:Paris\, Paris
CATEGORIES:Tests rapides des 16 reflexes de base
ORGANIZER;CN="Claire Lecut":MAILTO:clecut@icloud.com
END:VEVENT
BEGIN:VEVENT
DTSTART;TZID=UTC:20260928T180000
DTEND;TZID=UTC:20260928T210000
DTSTAMP:20260424T192748
CREATED:20260108T104024Z
LAST-MODIFIED:20260108T104507Z
UID:5649-1790618400-1790629200@enmouvement.org
SUMMARY:Anamnèse online - Soirée
DESCRIPTION:Objectifs du stage : \nApprendre à conduire une anamnèse pour débuter une première séance d’accompagnement en intégration réflexes \nProgramme : \n\nLister les points de contenu nécessaires à une bonne compréhension du profil\nApprendre à les formuler dans le respect d’une posture juste
URL:https://enmouvement.org/formation/anamnese-formation-online-soiree/
LOCATION:Online
CATEGORIES:Ateliers à thème
ORGANIZER;CN="Claire Lecut":MAILTO:clecut@icloud.com
END:VEVENT
END:VCALENDAR