BEGIN:VCALENDAR
VERSION:2.0
PRODID:-//En mouvement - ECPv6.15.20//NONSGML v1.0//EN
CALSCALE:GREGORIAN
METHOD:PUBLISH
X-ORIGINAL-URL:https://enmouvement.org
X-WR-CALDESC:Évènements pour En mouvement
REFRESH-INTERVAL;VALUE=DURATION:PT1H
X-Robots-Tag:noindex
X-PUBLISHED-TTL:PT1H
BEGIN:VTIMEZONE
TZID:UTC
BEGIN:STANDARD
TZOFFSETFROM:+0000
TZOFFSETTO:+0000
TZNAME:UTC
DTSTART:20250101T000000
END:STANDARD
END:VTIMEZONE
BEGIN:VEVENT
DTSTART;TZID=UTC:20261020T093000
DTEND;TZID=UTC:20261021T180000
DTSTAMP:20260419T193036
CREATED:20250904T100814Z
LAST-MODIFIED:20260416T130529Z
UID:5277-1792488600-1792605600@enmouvement.org
SUMMARY:RMTi Niveau 3 - nov 2026
DESCRIPTION:Pré-requis : \n\nRMT niveau 1\nRMT niveau 2\n\nObjectifs du stage : \n\nComprendre les processus sensoriels impliqués dans l’apprentissage de la lecture.\nIdentifier les origines possibles des troubles de l’apprentissage de la lecture et de l’écriture.\nÉtudier les réflexes en lien direct avec ces compétences.\nRemédier à la problématique : étudier et pratiquer les exercices d’intégration de ces réflexes.\n\nMoyens pédagogiques et d’organisation : \n\nProgramme du stage\nManuel de cours (76 p.)\nPrésentation Powerpoint pour garder la vue d’ensemble de la formation\nDiffusion de films et d’images illustrant le développement des réflexes\nVisuels muraux représentant les 17 mouvements rythmiques\nQuestionnaires utilisables en séance avec vos clients\n\nProgramme du niveau 3 : \n\nLe traitement sensoriel de la lecture\nLes dyslexies visuelle/phonétique\nLa spécialisation des hémisphères\nLe développement de la vision binoculaire : accommodation\, fusion\, difficultés\nLa posture dans les troubles de la lecture et de l’écriture\nLes réflexes liés à la vision\nLes problèmes phonologiques : dominance de l’oreille\, langage et articulation\nLes réflexes liés à l’écriture.\nLa dyslexie et le cortex préfrontal – problèmes d’attention\nLes effets des mouvements rythmiques du RMT sur la dyslexie\n\nLes réflexes étudiés : \n\nRéflexe tonique asymétrique du cou RTAC\nRéflexe tonique labyrinthique RTL\nRéflexe tonique symétrique du cou RTSC\nRéflexe de Babkin\nRéflexe de traction des mains\nRéflexe d’agrippement\nRéflexe de Moro\n\nMoyens permettant de suivre l’exécution et d’en apprécier les résultats : \n\nPratique par deux ou trois personnes des mouvements rythmiques et de l’intégration des réflexes.\nÉvaluation écrite individuelle en fin de stage.\n\nLicence RMTi : afin de faire valoir vos crédits de certification\, pensez à vous inscrire le 1er jour de formation sur le site de RMTi Niveau 3.  Les frais d’enregistrement sont de $20. \n\n \nBilletterie: pour réserver votre place\, merci de verser les arrhes. Vous verserez le solde une semaine avant le début de la formation. Vous pouvez aussi choisir de régler votre billet dans sa totalité dès maintenant. Selon votre date d’inscription\, vous bénéficiez d’un tarif préférentiel. \nEn cas d’annulation plus de 30 jours avant le cours\, les arrhes pourront être reportées sur une autre formation\, sinon les arrhes seront encaissées. Si une formation devait être annulée par l’association En Mouvement\, les arrhes vous seront restituées.
URL:https://enmouvement.org/formation/rmti-niveau-3-november-2026/
LOCATION:Paris\, Paris
CATEGORIES:Niveau 3 : RMTI Pour l'écriture & la lecture
ORGANIZER;CN="Claire Lecut":MAILTO:clecut@icloud.com
END:VEVENT
END:VCALENDAR