BEGIN:VCALENDAR
VERSION:2.0
PRODID:-//En mouvement - ECPv6.15.20//NONSGML v1.0//EN
CALSCALE:GREGORIAN
METHOD:PUBLISH
X-ORIGINAL-URL:https://enmouvement.org
X-WR-CALDESC:Évènements pour En mouvement
REFRESH-INTERVAL;VALUE=DURATION:PT1H
X-Robots-Tag:noindex
X-PUBLISHED-TTL:PT1H
BEGIN:VTIMEZONE
TZID:UTC
BEGIN:STANDARD
TZOFFSETFROM:+0000
TZOFFSETTO:+0000
TZNAME:UTC
DTSTART:20240101T000000
END:STANDARD
END:VTIMEZONE
BEGIN:VEVENT
DTSTART;TZID=UTC:20250612T140000
DTEND;TZID=UTC:20250612T170000
DTSTAMP:20260421T220911
CREATED:20240901T191740Z
LAST-MODIFIED:20260104T192643Z
UID:4398-1749736800-1749747600@enmouvement.org
SUMMARY:Remodelage de Latéralité Online
DESCRIPTION:Objectifs du stage : \nSession de découverte et de pratique du remodelage de la latéralité.\nApprendre un protocole de Brain Gym particulièrement efficace permettant de restaurer le processus naturel de l’apprentissage et d’en libérer les capacités dans tous les aspects de la vie. \nProgramme : \n\nLes implications de la notion de latéralisation\nEtude et pratique du protocole du remodelage de la latéralité.\n\nLe niveau 3 de RMTi (réflexes pour la lecture et l’écriture) est programmé le week-end précédent
URL:https://enmouvement.org/formation/remodelage-de-lateralite/
LOCATION:Online
CATEGORIES:Ateliers à thème
ORGANIZER;CN="Claire Lecut":MAILTO:clecut@icloud.com
END:VEVENT
END:VCALENDAR