BEGIN:VCALENDAR
VERSION:2.0
PRODID:-//En mouvement - ECPv6.15.20//NONSGML v1.0//EN
CALSCALE:GREGORIAN
METHOD:PUBLISH
X-ORIGINAL-URL:https://enmouvement.org
X-WR-CALDESC:Évènements pour En mouvement
REFRESH-INTERVAL;VALUE=DURATION:PT1H
X-Robots-Tag:noindex
X-PUBLISHED-TTL:PT1H
BEGIN:VTIMEZONE
TZID:UTC
BEGIN:STANDARD
TZOFFSETFROM:+0000
TZOFFSETTO:+0000
TZNAME:UTC
DTSTART:20240101T000000
END:STANDARD
END:VTIMEZONE
BEGIN:VEVENT
DTSTART;TZID=UTC:20250405T090000
DTEND;TZID=UTC:20250406T173000
DTSTAMP:20260422T004411
CREATED:20240229T152855Z
LAST-MODIFIED:20240829T145214Z
UID:1861-1743843600-1743960600@enmouvement.org
SUMMARY:Formation Premiers secours en santé mentale
DESCRIPTION:Aider quelqu’un qui ne va pas bien\, ça s’apprend ! \nLes Premiers Secours en Santé Mentale sont l’équivalent des gestes de premiers secours\, spécialisés dans le domaine de la santé mentale.L’objectif est de former des secouristes qui peuvent apporter de l’aide à une personne qui subit les  premiers signes de trouble ou une détérioration de sa santé mentale jusqu’à la prise en charge par un professionnel. \nPré-requis :Formation ouverte à toute personne majeure\, aucun pré-requis. \nGroupe de minimum 8 personnes à 16 personnes\, maximum. Si le nombre minimal n’est pas atteint\, nous vous proposerons de vous inscrire à une autre session.  \nLes objectifs de la formation : \n\nAcquérir des connaissances de base concernant les troubles de santé mentale.\nMieux appréhender les différents types de crises en santé mentale.\nDévelopper des compétences relationnelles : écouter sans jugement\, rassurer et donner uneinformation adaptée.\nD’informer sur les ressources disponibles et d’encourager à aller vers les professionnels adéquats.\nMieux faire face aux comportements agressifs.\n\nContenu de la formation : \n\nLes troubles de santé mentale émergents : dépression\, anxiété\, psychose\, problèmes liés à la consommation de substance\nLes crises en santé mentale : pensées et comportements suicidaires\, attaques de panique\, évènements traumatiques\, états sévères de psychoses\, effets sévères liés à l’utilisation de l’alcool et de substances toxiques\, conduites agressives.\n\nMoyens pédagogiques et organisation : \n\nLe manuel PSSM France remis à chaque secouriste en santé mentale\nApports théorique\, démarche pédagogique participative\, interactivité\, mise en situation\n\nEvaluation et attestation : \n\nAuto évaluation par questionnaire.\nQuestionnaire de satisfaction et évaluation des acquis\nAttestation de secouriste en santé mentale est émise par PSSM France à chaque participant ayantvalidée la formation complète.\n\nFormatriceBérangère MAINGUY\,Psychopédagogue\,Consultante RMTI© etFormatrice Accréditée PSSM France \n 
URL:https://enmouvement.org/formation/formation-premiers-secours-en-sante-mentale/
CATEGORIES:Modules complémentaires,Premiers Secours en Santé Mentale - PSSM
ATTACH;FMTTYPE=image/jpeg:https://enmouvement.org/wp-content/uploads/2023/12/sante-mentale.jpg
END:VEVENT
BEGIN:VEVENT
DTSTART;TZID=UTC:20250405T093000
DTEND;TZID=UTC:20250406T180000
DTSTAMP:20260422T004411
CREATED:20240921T211440Z
LAST-MODIFIED:20250123T183504Z
UID:4531-1743845400-1743962400@enmouvement.org
SUMMARY:TESTS rapides des réflexes fondamentaux
DESCRIPTION:Pré-requis :\nAucun. Cependant\, il est conseillé d’avoir quelques notions sur la thématique des réflexes primitifs. \nObjectifs : \n\nÉtudier les principaux réflexes et leurs fonctions\nLes identifier sur le plan comportemental\nÉtudier les tests permettant de les mettre en évidence sur le plan postural et dynamique\n\nLes réflexes étudiés : \n\nRéflexes et développement cérébral\nStructure et dynamique du réflexe :\n\nImpact sur le développement moteur et comportemental\nConséquences possibles en cas de non intégration\n\n\nRéflexes étudiés :\n\nAgrippement palmaire\nAgrippement plantaire\nAmphibien\nBabinski\nBabkin\nExtension croisée\nGalant\nLandau\nMoro\nParachute\nPerez\nRedressement de la tête\nRéflexe Tonique Labyrinthique\, RTL\nRéflexe Tonique Asymétrique du Cou\, RTAC\nRéflexe Tonique Symétrique du Cou\, RTSC\nTraction des mains\n\n\nDémonstration des techniques possibles d’intégration d’un réflexe
URL:https://enmouvement.org/formation/tests-rapides-des-reflexes-fondamentaux-2/
LOCATION:YGY Suresnes\, 38 bld Henri Sellier\, Suresnes\, 92150\, France
CATEGORIES:Tests rapides des 16 reflexes de base
ORGANIZER;CN="Claire Lecut":MAILTO:clecut@icloud.com
END:VEVENT
END:VCALENDAR