BEGIN:VCALENDAR
VERSION:2.0
PRODID:-//En mouvement - ECPv6.15.20//NONSGML v1.0//EN
CALSCALE:GREGORIAN
METHOD:PUBLISH
X-ORIGINAL-URL:https://enmouvement.org
X-WR-CALDESC:Évènements pour En mouvement
REFRESH-INTERVAL;VALUE=DURATION:PT1H
X-Robots-Tag:noindex
X-PUBLISHED-TTL:PT1H
BEGIN:VTIMEZONE
TZID:UTC
BEGIN:STANDARD
TZOFFSETFROM:+0000
TZOFFSETTO:+0000
TZNAME:UTC
DTSTART:20240101T000000
END:STANDARD
END:VTIMEZONE
BEGIN:VEVENT
DTSTART;TZID=UTC:20250315T093000
DTEND;TZID=UTC:20250315T173000
DTSTAMP:20260422T021814
CREATED:20240719T145959Z
LAST-MODIFIED:20250304T102743Z
UID:4217-1742031000-1742059800@enmouvement.org
SUMMARY:Anat/Physio
DESCRIPTION:Pré-requis\n\n\n\n\nLa formation est ouverte à tous ceux qui n’ont pas de connaissance en anatomie et physiologie. \n\n\n\n\n\n\n\nSeront abordés les points suivants :\n\n\n\n\n\nLe squelette\nLes muscles\nLe système nerveux\nL’équilibre\nL’impact du stress sur l’organisme\nDécodage postural en pratique\n\n\n\n\n\n\n\n\n\n\n\nMoyens permettant de suivre l’exécution et d’en apprécier les résultats :\n\n\n\n\nPlusieurs supports :  powerpoint\, appli d’anatomie\, livres\, manuels de formation\, pour rendre les infos plus pertinentes !
URL:https://enmouvement.org/formation/anat-physio/
LOCATION:Cergy\, Cergy-Pontoise\, 95000
CATEGORIES:Anat / Physio : Initiation à l’anatomie
ORGANIZER;CN="Emmanuelle Cadou":MAILTO:emmanuelle.cadou@gmail.com
END:VEVENT
END:VCALENDAR